BEGIN:VCALENDAR
VERSION:2.0
PRODID:-//hacksw/handcal//NONSGML v1.0//EN
BEGIN:VEVENT
SUMMARY:PUTEAUX RUGBY - RC PARIS 15
UID:e7d554be-68f1-4cf9-8822-ba0f247f9489
DTSTART:20260412T150000Z
DTEND:20260412T163000Z
LOCATION:Localisation   
CATEGORIES:Sportif
STATUS:
URL;VALUE=URI:https://www.puteauxrugby.fr/evenements/2026/04/12/puteaux-rugby-rc-paris-15-2439861
END:VEVENT
END:VCALENDAR
