BEGIN:VCALENDAR
VERSION:2.0
PRODID:-//hacksw/handcal//NONSGML v1.0//EN
BEGIN:VEVENT
SUMMARY:PUTEAUX RUGBY - PARIS OLYMPIQUE RUGBY CLUB
UID:7760f60c-aeaf-4ef2-b590-d36374b2c64a
DTSTART:20260406T140000Z
DTEND:20260406T153000Z
LOCATION:Localisation   
CATEGORIES:Sportif
STATUS:
URL;VALUE=URI:https://www.puteauxrugby.fr/evenements/2026/04/06/puteaux-rugby-paris-olympique-rugby-club-2437476
END:VEVENT
END:VCALENDAR
